BEGIN:VCALENDAR
VERSION:2.0
PRODID:-//Victoria High School Library - ECPv6.2.8.1//NONSGML v1.0//EN
CALSCALE:GREGORIAN
METHOD:PUBLISH
X-ORIGINAL-URL:https://vichighlibrary.sd61.bc.ca
X-WR-CALDESC:Events for Victoria High School Library
REFRESH-INTERVAL;VALUE=DURATION:PT1H
X-Robots-Tag:noindex
X-PUBLISHED-TTL:PT1H
BEGIN:VTIMEZONE
TZID:America/Vancouver
BEGIN:DAYLIGHT
TZOFFSETFROM:-0800
TZOFFSETTO:-0700
TZNAME:PDT
DTSTART:20200308T100000
END:DAYLIGHT
BEGIN:STANDARD
TZOFFSETFROM:-0700
TZOFFSETTO:-0800
TZNAME:PST
DTSTART:20201101T090000
END:STANDARD
END:VTIMEZONE
BEGIN:VEVENT
DTSTART;TZID=America/Vancouver:20200921T080000
DTEND;TZID=America/Vancouver:20200925T170000
DTSTAMP:20260420T192807
CREATED:20200923T155645Z
LAST-MODIFIED:20201015T195903Z
UID:3957-1600675200-1601053200@vichighlibrary.sd61.bc.ca
SUMMARY:Weekly Menu Special - NEW BOOKS
DESCRIPTION:Scan the QR code or access the booklist of NEW BOOKS at this link: t.ly/GAYk Scan the QR code or or access the booklist of ORANGE SHIRT DAY books at this link: t.ly/GMHQ \n  \n 
URL:https://vichighlibrary.sd61.bc.ca/calendar-event/quick-picks-sept-21-25/
END:VEVENT
END:VCALENDAR