BEGIN:VCALENDAR
VERSION:2.0
PRODID:-//Victoria High School Library - ECPv6.2.8.1//NONSGML v1.0//EN
CALSCALE:GREGORIAN
METHOD:PUBLISH
X-WR-CALNAME:Victoria High School Library
X-ORIGINAL-URL:https://vichighlibrary.sd61.bc.ca
X-WR-CALDESC:Events for Victoria High School Library
REFRESH-INTERVAL;VALUE=DURATION:PT1H
X-Robots-Tag:noindex
X-PUBLISHED-TTL:PT1H
BEGIN:VTIMEZONE
TZID:America/Vancouver
BEGIN:DAYLIGHT
TZOFFSETFROM:-0800
TZOFFSETTO:-0700
TZNAME:PDT
DTSTART:20200308T100000
END:DAYLIGHT
BEGIN:STANDARD
TZOFFSETFROM:-0700
TZOFFSETTO:-0800
TZNAME:PST
DTSTART:20201101T090000
END:STANDARD
END:VTIMEZONE
BEGIN:VEVENT
DTSTART;TZID=America/Vancouver:20200928T080000
DTEND;TZID=America/Vancouver:20201002T170000
DTSTAMP:20260420T200505
CREATED:20200929T160956Z
LAST-MODIFIED:20201015T195313Z
UID:4016-1601280000-1601658000@vichighlibrary.sd61.bc.ca
SUMMARY:Weekly menu special:  ESCAPE TO OTHER WORLDS
DESCRIPTION:Quick picks: Escape to Other Worlds/New for 2020 \nFor a booklist and description of each title\, scan the QR code or click this link:  t.ly/Coh4 \n\n 
URL:https://vichighlibrary.sd61.bc.ca/calendar-event/4016/
END:VEVENT
END:VCALENDAR