BEGIN:VCALENDAR
VERSION:2.0
PRODID:-//Victoria High School Library - ECPv6.2.8.1//NONSGML v1.0//EN
CALSCALE:GREGORIAN
METHOD:PUBLISH
X-WR-CALNAME:Victoria High School Library
X-ORIGINAL-URL:https://vichighlibrary.sd61.bc.ca
X-WR-CALDESC:Events for Victoria High School Library
REFRESH-INTERVAL;VALUE=DURATION:PT1H
X-Robots-Tag:noindex
X-PUBLISHED-TTL:PT1H
BEGIN:VTIMEZONE
TZID:America/Vancouver
BEGIN:DAYLIGHT
TZOFFSETFROM:-0800
TZOFFSETTO:-0700
TZNAME:PDT
DTSTART:20200308T100000
END:DAYLIGHT
BEGIN:STANDARD
TZOFFSETFROM:-0700
TZOFFSETTO:-0800
TZNAME:PST
DTSTART:20201101T090000
END:STANDARD
END:VTIMEZONE
BEGIN:VEVENT
DTSTART;TZID=America/Vancouver:20201005T080000
DTEND;TZID=America/Vancouver:20201031T170000
DTSTAMP:20260420T200506
CREATED:20201004T154810Z
LAST-MODIFIED:20201006T155027Z
UID:4033-1601884800-1604163600@vichighlibrary.sd61.bc.ca
SUMMARY:Women's History Month
DESCRIPTION:For recommended reads in our library\, scan the QR code or visit t.ly/eQUV
URL:https://vichighlibrary.sd61.bc.ca/calendar-event/womens-history-month/
END:VEVENT
BEGIN:VEVENT
DTSTART;TZID=America/Vancouver:20201019T080000
DTEND;TZID=America/Vancouver:20201023T170000
DTSTAMP:20260420T200506
CREATED:20201015T193251Z
LAST-MODIFIED:20201016T171016Z
UID:4108-1603094400-1603472400@vichighlibrary.sd61.bc.ca
SUMMARY:Weekly Menu Special - "LIVING ON THE EDGE": mystery & suspense fiction
DESCRIPTION:For 12 “quick picks” – scan the QR code or visit this URL:http://t.ly/mhya
URL:https://vichighlibrary.sd61.bc.ca/calendar-event/weekly-menu-special-living-on-the-edge-mystery-suspense-fiction/
END:VEVENT
END:VCALENDAR