BEGIN:VCALENDAR
VERSION:2.0
PRODID:-//Victoria High School Library - ECPv6.2.8.1//NONSGML v1.0//EN
CALSCALE:GREGORIAN
METHOD:PUBLISH
X-WR-CALNAME:Victoria High School Library
X-ORIGINAL-URL:https://vichighlibrary.sd61.bc.ca
X-WR-CALDESC:Events for Victoria High School Library
REFRESH-INTERVAL;VALUE=DURATION:PT1H
X-Robots-Tag:noindex
X-PUBLISHED-TTL:PT1H
BEGIN:VTIMEZONE
TZID:America/Vancouver
BEGIN:DAYLIGHT
TZOFFSETFROM:-0800
TZOFFSETTO:-0700
TZNAME:PDT
DTSTART:20210314T100000
END:DAYLIGHT
BEGIN:STANDARD
TZOFFSETFROM:-0700
TZOFFSETTO:-0800
TZNAME:PST
DTSTART:20211107T090000
END:STANDARD
END:VTIMEZONE
BEGIN:VEVENT
DTSTART;TZID=America/Vancouver:20210503T080000
DTEND;TZID=America/Vancouver:20210530T170000
DTSTAMP:20260421T174718
CREATED:20210504T195813Z
LAST-MODIFIED:20210505T193348Z
UID:4496-1620028800-1622394000@vichighlibrary.sd61.bc.ca
SUMMARY:Asian Heritage Month
DESCRIPTION:Find out more at https://www.canada.ca/en/canadian-heritage/campaigns/asian-heritage-month.html \nRead books by Asian–Canadian authors: view Vic High’s booklist \nCheck out the display of Asian-Canadian history titles from our library display! \n\n  \n 
URL:https://vichighlibrary.sd61.bc.ca/calendar-event/asian-heritage-month/
END:VEVENT
END:VCALENDAR