BEGIN:VCALENDAR
VERSION:2.0
PRODID:-//Victoria High School Library - ECPv6.2.8.1//NONSGML v1.0//EN
CALSCALE:GREGORIAN
METHOD:PUBLISH
X-WR-CALNAME:Victoria High School Library
X-ORIGINAL-URL:https://vichighlibrary.sd61.bc.ca
X-WR-CALDESC:Events for Victoria High School Library
REFRESH-INTERVAL;VALUE=DURATION:PT1H
X-Robots-Tag:noindex
X-PUBLISHED-TTL:PT1H
BEGIN:VTIMEZONE
TZID:America/Vancouver
BEGIN:DAYLIGHT
TZOFFSETFROM:-0800
TZOFFSETTO:-0700
TZNAME:PDT
DTSTART:20220313T100000
END:DAYLIGHT
BEGIN:STANDARD
TZOFFSETFROM:-0700
TZOFFSETTO:-0800
TZNAME:PST
DTSTART:20221106T090000
END:STANDARD
END:VTIMEZONE
BEGIN:VEVENT
DTSTART;TZID=America/Vancouver:20220501T080000
DTEND;TZID=America/Vancouver:20220531T170000
DTSTAMP:20260423T135311
CREATED:20220504T222446Z
LAST-MODIFIED:20220505T213306Z
UID:4988-1651392000-1654016400@vichighlibrary.sd61.bc.ca
SUMMARY:Asian Heritage Month
DESCRIPTION:Check out the library display of Asian Canadian authors\, and books about famous and lesser-known Asian Canadians who helped to build Canada. You can see the full resource list at this link; \nhttps://collections.follettsoftware.com/collection/6273fe4164bdc1001232e649
URL:https://vichighlibrary.sd61.bc.ca/calendar-event/asian-history-month/
END:VEVENT
BEGIN:VEVENT
DTSTART;TZID=America/Vancouver:20220501T080000
DTEND;TZID=America/Vancouver:20220531T170000
DTSTAMP:20260423T135311
CREATED:20220505T212940Z
LAST-MODIFIED:20220505T223645Z
UID:5009-1651392000-1654016400@vichighlibrary.sd61.bc.ca
SUMMARY:Mental Health Awareness Month
DESCRIPTION:These books are excellent resources about mental health. \nhttps://collections.follettsoftware.com/collection/62744fd6a813e100118fb67f?h=24c61e09a2c019ff99edb8ee5144798861ee92cc6e0e8525d9ada34a9075bb4d \n 
URL:https://vichighlibrary.sd61.bc.ca/calendar-event/mental-health-awareness-month/
END:VEVENT
END:VCALENDAR