BEGIN:VCALENDAR
VERSION:2.0
PRODID:-//Victoria High School Library - ECPv6.2.8.1//NONSGML v1.0//EN
CALSCALE:GREGORIAN
METHOD:PUBLISH
X-ORIGINAL-URL:https://vichighlibrary.sd61.bc.ca
X-WR-CALDESC:Events for Victoria High School Library
REFRESH-INTERVAL;VALUE=DURATION:PT1H
X-Robots-Tag:noindex
X-PUBLISHED-TTL:PT1H
BEGIN:VTIMEZONE
TZID:America/Vancouver
BEGIN:DAYLIGHT
TZOFFSETFROM:-0800
TZOFFSETTO:-0700
TZNAME:PDT
DTSTART:20210314T100000
END:DAYLIGHT
BEGIN:STANDARD
TZOFFSETFROM:-0700
TZOFFSETTO:-0800
TZNAME:PST
DTSTART:20211107T090000
END:STANDARD
END:VTIMEZONE
BEGIN:VEVENT
DTSTART;TZID=America/Vancouver:20210104T080000
DTEND;TZID=America/Vancouver:20210115T170000
DTSTAMP:20260420T200615
CREATED:20210104T184323Z
LAST-MODIFIED:20210104T184357Z
UID:4358-1609747200-1610730000@vichighlibrary.sd61.bc.ca
SUMMARY:Discover a popular series!
DESCRIPTION:To preview these appetizers\, scan the QR code or go to t.ly/lOYD \n 
URL:https://vichighlibrary.sd61.bc.ca/calendar-event/discover-a-popular-series/
END:VEVENT
BEGIN:VEVENT
DTSTART;TZID=America/Vancouver:20210104T080000
DTEND;TZID=America/Vancouver:20210129T170000
DTSTAMP:20260420T200615
CREATED:20210106T174947Z
LAST-MODIFIED:20210106T174947Z
UID:4362-1609747200-1611939600@vichighlibrary.sd61.bc.ca
SUMMARY:Escape for 10 minutes! Try a short story.
DESCRIPTION:Click  the image above to access our library’s best short story collections:  realistic fiction\, fantasy fiction\, steampunk fiction\, science fiction and mystery fiction.  There’s something here for all reading tastes!
URL:https://vichighlibrary.sd61.bc.ca/calendar-event/escape-for-10-minutes-try-a-short-story/
END:VEVENT
BEGIN:VEVENT
DTSTART;TZID=America/Vancouver:20210118T080000
DTEND;TZID=America/Vancouver:20210129T170000
DTSTAMP:20260420T200615
CREATED:20210118T214117Z
LAST-MODIFIED:20210118T221602Z
UID:4393-1610956800-1611939600@vichighlibrary.sd61.bc.ca
SUMMARY:Beat the January Blues with a "blue" titled book!
DESCRIPTION:To access the list of 55 “blue” books\, go to the library catalog\, enter blue in the search box and click the “title” icon below the search box. \nTo beat the January blues with books\, find something that suits YOUR current reading tastes/needs.  See the teacher-librarian for suggestions\, or browse the library displays\, shelves\, and catalog on your own.
URL:https://vichighlibrary.sd61.bc.ca/calendar-event/4393/
END:VEVENT
BEGIN:VEVENT
DTSTART;TZID=America/Vancouver:20210201T080000
DTEND;TZID=America/Vancouver:20210228T170000
DTSTAMP:20260420T200615
CREATED:20210224T160142Z
LAST-MODIFIED:20210224T160142Z
UID:4418-1612166400-1614531600@vichighlibrary.sd61.bc.ca
SUMMARY:Black History Month
DESCRIPTION:
URL:https://vichighlibrary.sd61.bc.ca/calendar-event/black-history-month/
END:VEVENT
END:VCALENDAR